BEGIN:VCALENDAR
VERSION:2.0
PRODID:-//wp-events-plugin.com//7.2.3.1//EN
TZID:America/New_York
X-WR-TIMEZONE:America/New_York
BEGIN:VEVENT
UID:90@sunsetoob.com
DTSTART;TZID=America/New_York:20230925T170000
DTEND;TZID=America/New_York:20230925T200000
DTSTAMP:20230917T011401Z
URL:https://sunsetoob.com/events/don-campbell-on-the-sunset-stage/
SUMMARY:Don Campbell on The Sunset Stage!
DESCRIPTION:
ATTACH;FMTTYPE=image/jpeg:https://sunsetoob.com/wp-content/uploads/DON-CAM
 PBELL.jpg
CATEGORIES:Music,Special Event
END:VEVENT
BEGIN:VTIMEZONE
TZID:America/New_York
X-LIC-LOCATION:America/New_York
BEGIN:DAYLIGHT
DTSTART:20230312T030000
TZOFFSETFROM:-0500
TZOFFSETTO:-0400
TZNAME:EDT
END:DAYLIGHT
END:VTIMEZONE
END:VCALENDAR